BEGIN:VCALENDAR
VERSION:2.0
PRODID:-//APTA Centennial - ECPv5.8.0//NONSGML v1.0//EN
CALSCALE:GREGORIAN
METHOD:PUBLISH
X-WR-CALNAME:APTA Centennial
X-ORIGINAL-URL:https://centennial.apta.org
X-WR-CALDESC:Events for APTA Centennial
BEGIN:VTIMEZONE
TZID:America/New_York
BEGIN:DAYLIGHT
TZOFFSETFROM:-0500
TZOFFSETTO:-0400
TZNAME:EDT
DTSTART:20210314T070000
END:DAYLIGHT
BEGIN:STANDARD
TZOFFSETFROM:-0400
TZOFFSETTO:-0500
TZNAME:EST
DTSTART:20211107T060000
END:STANDARD
TZID:America/Los_Angeles
BEGIN:DAYLIGHT
TZOFFSETFROM:-0800
TZOFFSETTO:-0700
TZNAME:PDT
DTSTART:20220313T100000
END:DAYLIGHT
BEGIN:STANDARD
TZOFFSETFROM:-0700
TZOFFSETTO:-0800
TZNAME:PST
DTSTART:20221106T090000
END:STANDARD
END:VTIMEZONE
BEGIN:VEVENT
DTSTART;TZID=America/New_York:20210910T110000
DTEND;TZID=America/New_York:20210910T120000
DTSTAMP:20210704T182310
CREATED:20210525T190744Z
LAST-MODIFIED:20210525T191704Z
UID:1954-1631271600-1631275200@centennial.apta.org
SUMMARY:John H.P. Maley Lecture by Tim Flynn
DESCRIPTION:APTA Centennial Center – Alexandria\, Virginia\n11 a.m.-Noon\nNo ticket or fee required. Seating is limited. This event will be livestreamed.\nAttend the 26th John H.P. Maley Lecture during our Open House. This lecture will be held at the Paris/Patla Conference Center on the 7th floor of APTA Centennial Center. Seating is limited.
URL:https://centennial.apta.org/event/john-h-p-maley-lecture-by-tim-flynn/
LOCATION:APTA Centennial Center\, 3030 Potomac Ave\, Suite 100\, Alexadria\, VA\, 22305
CATEGORIES:Other
ORGANIZER;CN="APTA":MAILTO:centennial@apta.org
END:VEVENT
BEGIN:VEVENT
DTSTART;TZID=America/New_York:20210910T133000
DTEND;TZID=America/New_York:20210910T143000
DTSTAMP:20210704T182310
CREATED:20210525T190914Z
LAST-MODIFIED:20210525T190914Z
UID:1956-1631280600-1631284200@centennial.apta.org
SUMMARY:Presidents Forum
DESCRIPTION:APTA Centennial Center – Alexandria\, Virginia\n1:30 p.m.-2:30 p.m.\nNo ticket or fee required. Seating is limited. This event will be livestreamed.\nAPTA President Sharon L. Dunn will share the stage with past association presidents to discuss the past\, present\, and future of our association and profession. This panel discussion will be held at the Paris/Patla Conference Center on the 7th floor of APTA Centennial Center. Seating is limited.
URL:https://centennial.apta.org/event/presidents-forum/
LOCATION:APTA Centennial Center\, 3030 Potomac Ave\, Suite 100\, Alexadria\, VA\, 22305
CATEGORIES:Celebration,Gala
ORGANIZER;CN="APTA":MAILTO:centennial@apta.org
END:VEVENT
BEGIN:VEVENT
DTSTART;TZID=America/New_York:20210910T183000
DTEND;TZID=America/New_York:20210910T230000
DTSTAMP:20210704T182310
CREATED:20200417T225242Z
LAST-MODIFIED:20210525T200344Z
UID:1063-1631298600-1631314800@centennial.apta.org
SUMMARY:Centennial Gala
DESCRIPTION:Date: Friday\, September 10\, 2021\nLocation: Washington National Cathedral\, 3101 Wisconsin Ave NW\, Washington\, DC 20016\nTiming: 6:30 p.m. – 11:00 p.m.\nAttire: Formal \nTicket required. Invitation-only via table hosts at this time. \nTable hosts will invite their guests directly for the Centennial Gala – a night of dinner\, dancing\, and celebration. No individual ticket sales are available at this time. APTA will keep a wait list in the event limited seats become available.
URL:https://centennial.apta.org/event/centennial-gala/
LOCATION:Washington National Cathedral\, Washington DC\, DC\, United States
CATEGORIES:Gala
ORGANIZER;CN="APTA":MAILTO:centennial@apta.org
END:VEVENT
BEGIN:VEVENT
DTSTART;TZID=America/New_York:20210911T090000
DTEND;TZID=America/New_York:20210911T160000
DTSTAMP:20210704T182310
CREATED:20210525T191528Z
LAST-MODIFIED:20210525T191528Z
UID:1962-1631350800-1631376000@centennial.apta.org
SUMMARY:House of Delegates\, Day 1 of 2
DESCRIPTION:Omni Shoreham – Washington\, D.C.\n9:00 a.m.-4:00 p.m.\nThe annual meeting of APTA’s House of Delegates begins Saturday. Gallery seating for non-participants is limited. This event will be livestreamed.
URL:https://centennial.apta.org/event/house-of-delegates-day-1-of-2/
LOCATION:Omni Shoreham\, 2500 Calvert Street\, NW\, Washington\, DC\, 20008\, United States
CATEGORIES:Other
ORGANIZER;CN="APTA":MAILTO:centennial@apta.org
END:VEVENT
BEGIN:VEVENT
DTSTART;TZID=America/New_York:20210911T180000
DTEND;TZID=America/New_York:20210911T230000
DTSTAMP:20210704T182310
CREATED:20210525T192104Z
LAST-MODIFIED:20210525T192104Z
UID:1964-1631383200-1631401200@centennial.apta.org
SUMMARY:Arlington Police\, Fire\, Sheriff and ECC 9/11 Memorial 5K
DESCRIPTION:6:00 p.m.\n$35 if you register by June 5; $40 to register after June 5\nBeginning at the DoubleTree Hotel in Arlington\, about 2.5 miles north of APTA’s new headquarters\, this event benefits official charities that focus on the healing of military personnel and civilians directly affected by the war on terrorism and the attacks against America on September 11\, 2001. To participate\, register via the race provider: select “Join a Team” and select “APTA” from the teams list.
URL:https://centennial.apta.org/event/arlington-police-fire-sheriff-and-ecc-9-11-memorial-5k/
LOCATION:Double Tree Hotel Crystal City\, 300 Army Navy Dr.\, Arlington\, VA\, 22202\, United States
CATEGORIES:Other
ORGANIZER;CN="APTA":MAILTO:centennial@apta.org
END:VEVENT
BEGIN:VEVENT
DTSTART;TZID=America/New_York:20210912T080000
DTEND;TZID=America/New_York:20210912T170000
DTSTAMP:20210704T182310
CREATED:20210525T195109Z
LAST-MODIFIED:20210525T195109Z
UID:1968-1631433600-1631466000@centennial.apta.org
SUMMARY:House of Delegates\, Day 2 of 2
DESCRIPTION:Omni Shoreham – Washington\, D.C.\n8:00 a.m.-5:00 p.m.\nThe annual meeting of APTA’s House of Delegates concludes Sunday. Gallery seating for non-participants is limited. This event will be livestreamed for APTA members.
URL:https://centennial.apta.org/event/house-of-delegates-day-2-of-2/
LOCATION:Omni Shoreham\, 2500 Calvert Street\, NW\, Washington\, DC\, 20008\, United States
CATEGORIES:Other
ORGANIZER;CN="APTA":MAILTO:centennial@apta.org
END:VEVENT
BEGIN:VEVENT
DTSTART;TZID=America/New_York:20210912T090000
DTEND;TZID=America/New_York:20210912T160000
DTSTAMP:20210704T182310
CREATED:20210525T195217Z
LAST-MODIFIED:20210525T195217Z
UID:1970-1631437200-1631462400@centennial.apta.org
SUMMARY:APTA Centennial Scholars Meeting
DESCRIPTION:Omni Shoreham – Washington\, D.C.\n9:00 a.m.-4:00 p.m.\nThis in-person meeting of the scholars and mentors will occur Sunday.
URL:https://centennial.apta.org/event/apta-centennial-scholars-meeting/
LOCATION:Omni Shoreham\, 2500 Calvert Street\, NW\, Washington\, DC\, 20008\, United States
CATEGORIES:Other
ORGANIZER;CN="APTA":MAILTO:centennial@apta.org
END:VEVENT
BEGIN:VEVENT
DTSTART;TZID=America/New_York:20210912T153000
DTEND;TZID=America/New_York:20210912T173000
DTSTAMP:20210704T182310
CREATED:20210525T195326Z
LAST-MODIFIED:20210525T200449Z
UID:1972-1631460600-1631467800@centennial.apta.org
SUMMARY:Honors & Awards Reception hosted by the Catherine Worthingham Fellows
DESCRIPTION:Omni Shoreham – Washington\, D.C.\n3:30 p.m.-5:30 p.m.\nNo ticket or fee required.\nPrior to the Honors & Awards Ceremony at the Kennedy Center\, join your peers for a casual reception hosted by the Catherine Worthingham Fellows.
URL:https://centennial.apta.org/event/honors-awards-reception-hosted-by-the-catherine-worthingham-fellows/
LOCATION:Omni Shoreham\, 2500 Calvert Street\, NW\, Washington\, DC\, 20008\, United States
CATEGORIES:Celebration
ORGANIZER;CN="APTA":MAILTO:centennial@apta.org
END:VEVENT
BEGIN:VEVENT
DTSTART;TZID=America/New_York:20210912T183000
DTEND;TZID=America/New_York:20210912T210000
DTSTAMP:20210704T182310
CREATED:20210525T195656Z
LAST-MODIFIED:20210525T195719Z
UID:1974-1631471400-1631480400@centennial.apta.org
SUMMARY:Mary McMillan Lecture by Colleen Kigin and Honors & Awards Ceremony
DESCRIPTION:John F. Kennedy Center for the Performing Arts – Washington\, D.C.\n6:30 p.m.-9:00 p.m.\nTicket required. Invitation only at this time.\nTransportation provided from and to the Omni Shoreham.\nAttend the 52nd Mary McMillan Lecture by Colleen Kigin\, PT\, DPT\, MS\, MPA\, FAPTA\, and celebrate the 2020 and 2021 APTA Honors & Awards recipients.
URL:https://centennial.apta.org/event/mary-mcmillan-lecture-by-colleen-kigin-and-honors-awards-ceremony/
LOCATION:John F. Kennedy Center for the Performing Arts\, 2700 F Street\, NW\, Washington\, DC\, 20566\, United States
CATEGORIES:Other
ORGANIZER;CN="APTA":MAILTO:centennial@apta.org
END:VEVENT
BEGIN:VEVENT
DTSTART;TZID=America/New_York:20210913T080000
DTEND;TZID=America/New_York:20210913T150000
DTSTAMP:20210704T182310
CREATED:20210525T195833Z
LAST-MODIFIED:20210525T200616Z
UID:1977-1631520000-1631545200@centennial.apta.org
SUMMARY:APTA's Future of Physical Therapy Summit
DESCRIPTION:Capital Turnaround – Washington\, D.C.\n8:00 a.m.-3:00 p.m.\nTicket required. Invitation only at this time. This event will be livestreamed.\nThis visionary event will feature thought leaders from within and beyond the association – including Natalie Beswetherick (Chartered Society of Physiotherapy)\, Col. Deydre Teyhen (Army Medical Specialist Corps)\, Jazmine Tooles (MossRehab)\, and Scott Willis (Australian Physiotherapy Association).
URL:https://centennial.apta.org/event/future-of-physical-therapy-summit-2/
LOCATION:Capital Turnaround\, 8th and M Street\, SE\, Washington\, DC\, United States
CATEGORIES:Other
ORGANIZER;CN="APTA":MAILTO:centennial@apta.org
END:VEVENT
BEGIN:VEVENT
DTSTART;TZID=America/New_York:20210913T160000
DTEND;TZID=America/New_York:20210913T183000
DTSTAMP:20210704T182310
CREATED:20210525T195948Z
LAST-MODIFIED:20210525T195948Z
UID:1979-1631548800-1631557800@centennial.apta.org
SUMMARY:Advocacy Day Training (mandatory for September 14 advocacy event)
DESCRIPTION:Omni Shoreham – Washington\, D.C.\n4:00 p.m.-6:30 p.m.\nRegistration to the September 14 Advocacy Day required (see below).\nAttend mandatory training and strategy sessions for the next day’s Advocacy Day at Capitol Hill.
URL:https://centennial.apta.org/event/advocacy-day-training-mandatory-for-september-14-advocacy-event/
LOCATION:Omni Shoreham\, 2500 Calvert Street\, NW\, Washington\, DC\, 20008\, United States
CATEGORIES:Other
ORGANIZER;CN="APTA":MAILTO:centennial@apta.org
END:VEVENT
BEGIN:VEVENT
DTSTART;TZID=America/New_York:20210913T200000
DTEND;TZID=America/New_York:20210913T220000
DTSTAMP:20210704T182310
CREATED:20210525T200109Z
LAST-MODIFIED:20210525T200109Z
UID:1981-1631563200-1631570400@centennial.apta.org
SUMMARY:PTPAC Reception
DESCRIPTION:Omni Shoreham – Washington\, D.C.\n8:00 p.m.-10 p.m.\nTicket required.\nThis ticketed event is free to PTPAC Eagle Club members. Others pay $50. Ticket sales are not yet open.
URL:https://centennial.apta.org/event/ptpac-reception/
LOCATION:Omni Shoreham\, 2500 Calvert Street\, NW\, Washington\, DC\, 20008\, United States
CATEGORIES:Celebration
ORGANIZER;CN="APTA":MAILTO:centennial@apta.org
END:VEVENT
BEGIN:VEVENT
DTSTART;TZID=America/New_York:20210914T070000
DTEND;TZID=America/New_York:20210914T170000
DTSTAMP:20210704T182310
CREATED:20210525T200215Z
LAST-MODIFIED:20210525T200215Z
UID:1983-1631602800-1631638800@centennial.apta.org
SUMMARY:Advocacy Day at Capitol Hill
DESCRIPTION:Capitol Hill – Washington\, D.C.\n7:00 a.m.-5:00 p.m.\nFree advance registration required.\nTransportation provided from and to the Omni Shoreham.\nRegister here to join your peers in meetings with members of Congress and their staff to advocate on behalf of our profession and the people we serve. Prior participation in the September 13 training is mandatory.
URL:https://centennial.apta.org/event/advocacy-day-at-capitol-hill/
LOCATION:Omni Shoreham\, 2500 Calvert Street\, NW\, Washington\, DC\, 20008\, United States
CATEGORIES:Other
ORGANIZER;CN="APTA":MAILTO:centennial@apta.org
END:VEVENT
BEGIN:VEVENT
DTSTART;TZID=America/New_York:20210924T130000
DTEND;TZID=America/New_York:20210924T170000
DTSTAMP:20210704T182310
CREATED:20210112T153108Z
LAST-MODIFIED:20210618T121023Z
UID:1569-1632488400-1632502800@centennial.apta.org
SUMMARY:APTA Centennial Lecture Series | Treating the Injured Runner
DESCRIPTION:September 24-25\, 2021 • Lecture and Lab\nEliza Szymanek\, PT\nAPTA Centennial Center\n——————————————————————\nAs the trusted leader of the physical therapy profession\, we are proud to announce the APTA Centennial Lecture Series. This continuing education series features recognized leaders on topics in clinical practice\, practice management\, payment\, and innovation. \nCourses will be held virtually and at our new headquarters\, APTA Centennial Center\, in Alexandria\, Virginia. Pricing\, CEU information\, lodging\, and registration information to come. \nSponsored by: \n \n(Dates of these events are subject to change depending on developments related to the COVID-19 pandemic. Please check back often for updates)
URL:https://centennial.apta.org/event/apta-centennial-lecture-series-treating-the-injured-runner/2021-09-24/
LOCATION:APTA Centennial Center\, 3030 Potomac Ave\, Suite 100\, Alexadria\, VA\, 22305
CATEGORIES:Other
ORGANIZER;CN="APTA":MAILTO:centennial@apta.org
END:VEVENT
BEGIN:VEVENT
DTSTART;TZID=America/New_York:20210925T083000
DTEND;TZID=America/New_York:20210926T150000
DTSTAMP:20210704T182310
CREATED:20210112T153108Z
LAST-MODIFIED:20210618T121024Z
UID:1571-1632558600-1632668400@centennial.apta.org
SUMMARY:APTA Centennial Lecture Series | Treating the Injured Runner
DESCRIPTION:September 24-25\, 2021 • Lecture and Lab\nEliza Szymanek\, PT\nAPTA Centennial Center\n——————————————————————\nAs the trusted leader of the physical therapy profession\, we are proud to announce the APTA Centennial Lecture Series. This continuing education series features recognized leaders on topics in clinical practice\, practice management\, payment\, and innovation. \nCourses will be held virtually and at our new headquarters\, APTA Centennial Center\, in Alexandria\, Virginia. Pricing\, CEU information\, lodging\, and registration information to come. \nSponsored by: \n \n(Dates of these events are subject to change depending on developments related to the COVID-19 pandemic. Please check back often for updates)
URL:https://centennial.apta.org/event/apta-centennial-lecture-series-treating-the-injured-runner/2021-09-25/
LOCATION:APTA Centennial Center\, 3030 Potomac Ave\, Suite 100\, Alexadria\, VA\, 22305
CATEGORIES:Other
ORGANIZER;CN="APTA":MAILTO:centennial@apta.org
END:VEVENT
BEGIN:VEVENT
DTSTART;TZID=America/New_York:20210930T193000
DTEND;TZID=America/New_York:20210930T203000
DTSTAMP:20210704T182310
CREATED:20201118T154904Z
LAST-MODIFIED:20201118T160922Z
UID:1397-1633030200-1633033800@centennial.apta.org
SUMMARY:APTA Pennsylvania Webinar Series – Regenerative Rehabilitation: Physical Therapeutics Meet Stem Cell Technologies
DESCRIPTION:APTA Pennsylvania is proud to announce our 2021 Centennial Speaker Webinar Series that will bring you five engaging educational topics from nationally renowned speakers. \nTitle: Regenerative Rehabilitation: Physical Therapeutics Meet Stem Cell Technologies\nSpeaker: Fabrisia Ambrosio\, PT\, PhD\nDate: Thursday\, Sept. 30\, 2021 at 7:30 p.m. \nObjectives:\n1. To provide a mechanistic rationale for the integration of rehabilitation approaches in the development of regenerative medicine technologies.\n2. Upon completion of the seminar\, learners will be able to define Regenerative Rehabilitation and describe common approaches used in the regenerative medicine pipeline.\n3. To expand the knowledge base surrounding the development of novel therapeutics for musculoskeletal applications. Specifically\, this seminar will provide pre-clinical examples of the Regenerative Rehabilitation paradigm for the treatment of skeletal muscle injuries.\n4. Upon completion of the seminar\, learners will have refreshed their understanding of the regenerative cascade following a skeletal muscle injury and increased their exposure to cellular therapeutics and tissue engineering approaches that are being investigated to promote functional recovery after muscle injury. \nLearn more about the speaker and register for the “Regenerative Rehabilitation: Physical Therapeutics Meet Stem Cell Technologies” on the APTA Pennsylvania Centennial website: https://www.ppta.org/aptapa-centennialwebinars
URL:https://centennial.apta.org/event/apta-pennsylvania-webinar-series-regenerative-rehabilitation-physical-therapeutics-meet-stem-cell-technologies/
LOCATION:Virtual\, United States
CATEGORIES:Other
END:VEVENT
BEGIN:VEVENT
DTSTART;TZID=America/New_York:20211022T130000
DTEND;TZID=America/New_York:20211022T170000
DTSTAMP:20210704T182310
CREATED:20210112T153412Z
LAST-MODIFIED:20210112T153412Z
UID:1574-1634907600-1634922000@centennial.apta.org
SUMMARY:APTA Centennial Lecture Series | Physical Therapist Management of the Bicyclist
DESCRIPTION:October 22-23\, 2021 • Lecture and Demo\nErik Moen\, PT\nAPTA Centennial Center\n—————————————————————–\nAs the trusted leader of the physical therapy profession\, we are proud to announce the APTA Centennial Lecture Series. This continuing education series features recognized leaders on topics in clinical practice\, practice management\, payment\, and innovation. \nCourses will be held virtually and at our new headquarters\, APTA Centennial Center\, in Alexandria\, Virginia. Pricing\, CEU information\, lodging\, and registration information to come. \n(Dates of these events are subject to change depending on developments related to the COVID-19 pandemic. Please check back often for updates)
URL:https://centennial.apta.org/event/apta-centennial-lecture-series-physical-therapist-management-of-the-bicyclist/2021-10-22/
LOCATION:APTA Centennial Center\, 3030 Potomac Ave\, Suite 100\, Alexadria\, VA\, 22305
CATEGORIES:Other
ORGANIZER;CN="APTA":MAILTO:centennial@apta.org
END:VEVENT
BEGIN:VEVENT
DTSTART;TZID=America/New_York:20211023T083000
DTEND;TZID=America/New_York:20211023T150000
DTSTAMP:20210704T182310
CREATED:20210112T153412Z
LAST-MODIFIED:20210112T153412Z
UID:1576-1634977800-1635001200@centennial.apta.org
SUMMARY:APTA Centennial Lecture Series | Physical Therapist Management of the Bicyclist
DESCRIPTION:October 22-23\, 2021 • Lecture and Demo\nErik Moen\, PT\nAPTA Centennial Center\n—————————————————————–\nAs the trusted leader of the physical therapy profession\, we are proud to announce the APTA Centennial Lecture Series. This continuing education series features recognized leaders on topics in clinical practice\, practice management\, payment\, and innovation. \nCourses will be held virtually and at our new headquarters\, APTA Centennial Center\, in Alexandria\, Virginia. Pricing\, CEU information\, lodging\, and registration information to come. \n(Dates of these events are subject to change depending on developments related to the COVID-19 pandemic. Please check back often for updates)
URL:https://centennial.apta.org/event/apta-centennial-lecture-series-physical-therapist-management-of-the-bicyclist/2021-10-23/
LOCATION:APTA Centennial Center\, 3030 Potomac Ave\, Suite 100\, Alexadria\, VA\, 22305
CATEGORIES:Other
ORGANIZER;CN="APTA":MAILTO:centennial@apta.org
END:VEVENT
BEGIN:VEVENT
DTSTART;TZID=America/New_York:20211111T193000
DTEND;TZID=America/New_York:20211111T203000
DTSTAMP:20210704T182310
CREATED:20201118T154729Z
LAST-MODIFIED:20201123T160023Z
UID:1396-1636659000-1636662600@centennial.apta.org
SUMMARY:APTA Pennsylvania Webinar Series – An Update on BPPV: What is the Recent Evidence?
DESCRIPTION:APTA Pennsylvania is proud to announce our 2021 Centennial Speaker Webinar Series that will bring you five engaging educational topics from nationally renowned speakers. \nTitle: An Update on BPPV: What is the Recent Evidence?\nSpeaker: Susan L. Whitney\, PT\, DPT\, ATC\, PhD\, FAPTA\nBoard-Certified Neurologic Clinical Specialist \nDate: Thursday\, Nov. 11\, 2021 at 7:30 p.m. \nObjectives:\n1. Be provided with the most recent evidence related to the pathophysiology of BPPV and how to educate persons about their BPPV.\n2. Be exposed to the newest interventions for persons with BPPV. \nLearn more about the speaker and register for the “An Update on BPPV: What is the Recent Evidence?” on the APTA Pennsylvania Centennial website: https://www.ppta.org/aptapa-centennialwebinars
URL:https://centennial.apta.org/event/apta-pennsylvania-webinar-series-an-update-on-bppv-what-is-the-recent-evidence/
LOCATION:Virtual\, United States
CATEGORIES:Other
END:VEVENT
BEGIN:VEVENT
DTSTART;TZID=America/Los_Angeles:20220101T070000
DTEND;TZID=America/Los_Angeles:20220101T170000
DTSTAMP:20210704T182310
CREATED:20210110T031023Z
LAST-MODIFIED:20210110T191441Z
UID:1499-1641020400-1641056400@centennial.apta.org
SUMMARY:CPTA Centennial Float | 132nd Tournament of Roses Parade
DESCRIPTION:CPTA is sponsoring a float in the 132nd Tournament of Roses Parade to celebrate #APTA100 and raise public awareness for the physical therapy profession. \n  \nThe Rose Parade is a well-known New Year’s Day tradition AND a one-of-a-kind public outreach opportunity to educate and inform consumers about what PTs and PTAs do. The 2021 Parade has been moved to 2022 due to the coronavirus pandemic. The parade theme\, “Dream. Believe. Achieve.” (Celebrating Education) is perfectly suited to our goal. We are excited to be able to highlight APTA’s #ChoosePT and the ways in which the physical therapy profession helps to optimize human movement. \n  \nThis event has an incredibly wide\, global reach: \n\nEstimated live audience of 700\,000 at the parade*\n45.5 million viewers nationally via television*\nAn additional international audience of 28 million viewers*\n\n  \nCountless other individuals view the floats up close when they are on display to the public for two days following the parade. \n  \n  \n*Data provided by the Pasadena Tournament of Roses.
URL:https://centennial.apta.org/event/cpta-centennial-float-132nd-tournament-of-roses-parade/
LOCATION:Tournament of Roses Parade\, Pasadena\, CA\, 91184\, United States
CATEGORIES:Other
END:VEVENT
END:VCALENDAR