BEGIN:VCALENDAR
VERSION:2.0
PRODID:-//APTA Centennial - ECPv5.8.1//NONSGML v1.0//EN
CALSCALE:GREGORIAN
METHOD:PUBLISH
X-WR-CALNAME:APTA Centennial
X-ORIGINAL-URL:https://centennial.apta.org
X-WR-CALDESC:Events for APTA Centennial
BEGIN:VTIMEZONE
TZID:America/New_York
BEGIN:DAYLIGHT
TZOFFSETFROM:-0500
TZOFFSETTO:-0400
TZNAME:EDT
DTSTART:20210314T070000
END:DAYLIGHT
BEGIN:STANDARD
TZOFFSETFROM:-0400
TZOFFSETTO:-0500
TZNAME:EST
DTSTART:20211107T060000
END:STANDARD
END:VTIMEZONE
BEGIN:VEVENT
DTSTART;VALUE=DATE:20210115
DTEND;VALUE=DATE:20210116
DTSTAMP:20210802T041929
CREATED:20210114T173450Z
LAST-MODIFIED:20210114T173450Z
UID:1595-1610668800-1610755199@centennial.apta.org
SUMMARY:#APTAWACentennialStories
DESCRIPTION:Launch of our Centennial stories project\, during which we will collect and share stories about your journey to become a PT or PTA in Washington state. We hope to collect at least 100 stories! We will start posting our stories on our website and on social media on Friday.
URL:https://centennial.apta.org/event/aptawacentennialstories/
LOCATION:APTAWA Online\, www.aptawa.org\, Olympia\, WA\, 98502\, United States
CATEGORIES:Other
END:VEVENT
BEGIN:VEVENT
DTSTART;TZID=America/New_York:20210114T200000
DTEND;TZID=America/New_York:20210114T213000
DTSTAMP:20210802T041929
CREATED:20201117T144455Z
LAST-MODIFIED:20210112T183225Z
UID:1389-1610654400-1610659800@centennial.apta.org
SUMMARY:Athlete Strength: Is there such a thing as being too strong? | By AASPT and APTA Indiana
DESCRIPTION:Program Description:\nLearn more about the sports physical therapy profession and athlete strength during this 60-90 minute educational session. This session is being planned by the AASPT and APTA Indiana in celebration of Founders’ Day (January 15) during the APTA Centennial. \nPanelists:\nChris Juneau\, PT\, DPT (Moderator)\nBoard-Certified Clinical Specialist in Sports Physical Therapy \nJarred Boyd\, PT\, DPT\, ATC – (PT for the Memphis Grizzlies)\nBoard-Certified Clinical Specialist in Sports Physical Therapy \nQuinn Henoch\, PT\, DPT (ClinicalAthlete Newport\, Newport\, CA) \nMaggie Bryant\, PT\, DPT (LA Clippers NBA)\nBoard-Certified Clinical Specialist in Orthopaedic Physical Therapy\nBoard-Certified Clinical Specialist in Sports Physical Therapy
URL:https://centennial.apta.org/event/athlete-strength-is-there-such-a-thing-as-being-too-strong/
LOCATION:Virtual\, United States
CATEGORIES:Other
END:VEVENT
BEGIN:VEVENT
DTSTART;TZID=America/New_York:20210113T193000
DTEND;TZID=America/New_York:20210113T203000
DTSTAMP:20210802T041929
CREATED:20201117T132406Z
LAST-MODIFIED:20201120T084059Z
UID:1377-1610566200-1610569800@centennial.apta.org
SUMMARY:APTA Pennsylvania Webinar Series – Where do PTs fit in the World of Imaging?
DESCRIPTION:APTA Pennsylvania is proud to announce our 2021 Centennial Speaker Webinar Series that will bring you five engaging educational topics from nationally renowned speakers. \nTitle: Where do PTs Fit in the World of Imaging?\nSpeaker: Lynn McKinnis\, PT\, DPT\, OCS\nDate: Wednesday\, Jan. 13\, 2021 at 7:30 p.m. \nObjectives:\nProvide a bird’s eye view of the historical background of imaging privileges in the USA.\nExplain the differences between how the military PT and the civilian PT access imaging.\nIlluminate progress in modifications of state practice acts to allow PTs to refer for imaging.\nExplain the knowledge areas required for competence in referral for imaging.\nDiscuss which PTs will utilize referral for imaging when available\, and how. \nLearn more about the speaker and register for the “Where do PTs Fit in the World of Imaging?” on the APTA Pennsylvania Centennial website: https://www.ppta.org/aptapa-centennialwebinars
URL:https://centennial.apta.org/event/apta-pennsylvania-webinar-series-where-do-pts-fit-in-the-world-of-imaging/
LOCATION:Virtual\, United States
CATEGORIES:Other
END:VEVENT
END:VCALENDAR