BEGIN:VCALENDAR
VERSION:2.0
PRODID:-//APTA Centennial - ECPv5.7.0//NONSGML v1.0//EN
CALSCALE:GREGORIAN
METHOD:PUBLISH
X-WR-CALNAME:APTA Centennial
X-ORIGINAL-URL:https://centennial.apta.org
X-WR-CALDESC:Events for APTA Centennial
BEGIN:VTIMEZONE
TZID:America/New_York
BEGIN:DAYLIGHT
TZOFFSETFROM:-0500
TZOFFSETTO:-0400
TZNAME:EDT
DTSTART:20210314T070000
END:DAYLIGHT
BEGIN:STANDARD
TZOFFSETFROM:-0400
TZOFFSETTO:-0500
TZNAME:EST
DTSTART:20211107T060000
END:STANDARD
TZID:America/Chicago
BEGIN:DAYLIGHT
TZOFFSETFROM:-0600
TZOFFSETTO:-0500
TZNAME:CDT
DTSTART:20210314T080000
END:DAYLIGHT
BEGIN:STANDARD
TZOFFSETFROM:-0500
TZOFFSETTO:-0600
TZNAME:CST
DTSTART:20211107T070000
END:STANDARD
END:VTIMEZONE
BEGIN:VEVENT
DTSTART;VALUE=DATE:20210218
DTEND;VALUE=DATE:20210530
DTSTAMP:20210611T140822
CREATED:20210115T122543Z
LAST-MODIFIED:20210115T122543Z
UID:1603-1613606400-1622332799@centennial.apta.org
SUMMARY:100k Centennial Challenge | American Academy of Sports Physical Therapy
DESCRIPTION:Join the American Academy of Sports Physical Therapy for a PT community-wide walk\, run\, and roll challenge in celebration of APTA’s Centennial Year. Kick off the celebratory year with a little physical activity. Whether you roll\, walk\, or run\, join us and track your movement during the first quarter of the year. For your participation you will receive a 100K Challenge T-shirt\, a participation medallion\, and a little motivation to help you get up and move!
URL:https://centennial.apta.org/event/100k-centennial-challenge-american-academy-of-sports-physical-therapy/
LOCATION:Virtual\, United States
CATEGORIES:Celebration
END:VEVENT
BEGIN:VEVENT
DTSTART;TZID=America/New_York:20210121T120000
DTEND;TZID=America/New_York:20210121T133000
DTSTAMP:20210611T140822
CREATED:20210101T153403Z
LAST-MODIFIED:20210101T153820Z
UID:1470-1611230400-1611235800@centennial.apta.org
SUMMARY:APTA Fit for the Future: 100 Years of Training
DESCRIPTION:The University of Tennessee Chattanooga DPT program in conjunction with the Chattanooga St. Community College PTA program collaborate to deliver an annual Physical Therapy Forum for students and area clinicians for the purpose of keeping up with current trends in the physical therapy profession. This year’s offering will be virtual due to the ongoing Covid-19 pandemic. \nDr. Susan Appling\, PT\, DPT\, PhD\, a Board-Certified Clinical Specialist in Orthopaedic Physical Therapy\, will be the keynote speaker this year. She will discuss ways in which APTA’s previous 100 years have provided invaluable training and expertise for today’s physical therapists\, while looking to foster professional growth and attend to societal needs moving into the future.
URL:https://centennial.apta.org/event/apta-fit-for-the-future-100-years-of-training/
LOCATION:Virtual\, United States
CATEGORIES:Celebration
END:VEVENT
BEGIN:VEVENT
DTSTART;TZID=America/New_York:20210115T190000
DTEND;TZID=America/New_York:20210115T210000
DTSTAMP:20210611T140822
CREATED:20201214T114203Z
LAST-MODIFIED:20201214T114203Z
UID:1443-1610737200-1610744400@centennial.apta.org
SUMMARY:WVPTA Founders Day Celebration
DESCRIPTION:Join fellow West Virginia Physical Therapy Association members to celebrate 100 years of APTA history as well as celebrating our own component history. A zoom link will be sent to WVPTA members so that you can join us from 7-9p on Friday January 15th\, 2021. The first hour will include a virtual celebration with fellow WVPTA members and then at 8:00 pm we will virtually share the APTA Founder’s Day Celebration from the new APTA headquarters.
URL:https://centennial.apta.org/event/wvpta-founders-day-celebration/
LOCATION:Virtual\, United States
CATEGORIES:Celebration
END:VEVENT
BEGIN:VEVENT
DTSTART;TZID=America/New_York:20210115T190000
DTEND;TZID=America/New_York:20210115T200000
DTSTAMP:20210611T140822
CREATED:20210114T153502Z
LAST-MODIFIED:20210114T153502Z
UID:1591-1610737200-1610740800@centennial.apta.org
SUMMARY:APTA Indiana Founders' Day Virtual Party
DESCRIPTION:APTA Indiana is celebrating Founders’ Day with a virtual zoom party. Hear from APTA Indiana president Emily Slaven\, go back in time and see how far APTA has progressed over 100 years\, and see the future of our professional organization. Then be entertained by APTA Indiana member and part time bartender\, Paul Lonnemann\, as he shows us how to make the official APTA Indiana Founders’ Day drink so we can toast at the end of the evening. This will begin at 7 PM and finish promptly at 8 PM so those in attendance can join APTA’s Founders’ Day Event.
URL:https://centennial.apta.org/event/apta-indiana-founders-day-virtual-party/
LOCATION:Virtual\, United States
CATEGORIES:Celebration
END:VEVENT
BEGIN:VEVENT
DTSTART;TZID=America/New_York:20210115T190000
DTEND;TZID=America/New_York:20210115T200000
DTSTAMP:20210611T140822
CREATED:20210114T135615Z
LAST-MODIFIED:20210114T135615Z
UID:1587-1610737200-1610740800@centennial.apta.org
SUMMARY:APTA DE Founders' Day Celebration/ Virtual Happy Hour with Joe Lucca
DESCRIPTION:Join the Delaware Chapter of the APTA on January 15th at 7pm as we virtually kick off the celebration of our Centennial Anniversary. Joins us for beers and cheers as Joe Lucca\, DPT\, PhD\, a Board-Certified Clinical Specialist in Geriatric Physical Therapy\, Associate Professor (Emeritus) at the University of Delaware\, discusses the historical relevance of Founders’ Day and shares his perspective on the past\, present and future of Physical Therapy here in Delaware. \nTopic: “APTA Founders’ Day Celebration: Happy Hour with Joe Lucca”\nTime: Jan 15\, 2021 07:00 PM Eastern Time (US and Canada)\nJoin Zoom Meeting\nhttps://udel.zoom.us/j/96104513722\nPassword: 100years
URL:https://centennial.apta.org/event/apta-de-founders-day-celebration-virtual-happy-hour-with-joe-lucca/
LOCATION:Virtual\, United States
CATEGORIES:Celebration
END:VEVENT
BEGIN:VEVENT
DTSTART;TZID=America/New_York:20210115T183000
DTEND;TZID=America/New_York:20210115T193000
DTSTAMP:20210611T140822
CREATED:20201224T143153Z
LAST-MODIFIED:20210112T183354Z
UID:1448-1610735400-1610739000@centennial.apta.org
SUMMARY:100 Years of Physical Therapy: Where Have We Been and Where Are We Going? | By APTA Missouri
DESCRIPTION:In 2021\, we will celebrate 100 years as a member association—and launch our next century as the largest community for physical therapists\, physical therapist assistants\, and students. On January 15th\, 2021 APTA will celebrate its birthday – Founders’ Day. The occasion will be livestreamed on APTA’s social media channels and a weekend of APTA Founders’ Day Lectures will follow. \nHere in Missouri\, we are excited to join the celebrations AND it just so happens we have one of the world’s most renowned PTs to help: Dr. Shirley Sahrmann!
URL:https://centennial.apta.org/event/100-years-of-physical-therapy-where-have-we-been-and-where-are-we-going/
LOCATION:Virtual\, United States
CATEGORIES:Celebration
END:VEVENT
BEGIN:VEVENT
DTSTART;TZID=America/Chicago:20210115T180000
DTEND;TZID=America/Chicago:20210115T190000
DTSTAMP:20210611T140822
CREATED:20210107T212658Z
LAST-MODIFIED:20210107T212658Z
UID:1495-1610733600-1610737200@centennial.apta.org
SUMMARY:APTA Wisconsin Founders' Day Happy Hour
DESCRIPTION:APTA Wisconsin will be hosting a happy hour via the APTA Wisconsin Facebook page. The Founders’ Day celebration will begin the roll out of Wisconsin Legacy member interviews and the APTA Wisconsin Historic Timeline.
URL:https://centennial.apta.org/event/apta-wisconsin-founders-day-happy-hour/
LOCATION:Virtual\, United States
CATEGORIES:Celebration
END:VEVENT
BEGIN:VEVENT
DTSTART;TZID=America/New_York:20210115T180000
DTEND;TZID=America/New_York:20210115T180000
DTSTAMP:20210611T140822
CREATED:20201120T083035Z
LAST-MODIFIED:20201201T125903Z
UID:1428-1610733600-1610733600@centennial.apta.org
SUMMARY:APTA Michigan Founders' Day Virtual Zoom Happy Hour and Interview with Lifetime Members
DESCRIPTION:APTA MI will be hosting a Zoom call on Founders’ Day. Our members are invited to join us\, sit back\, sip on their favorite Michigan “Founders'” Beer\, and listen to the rich history of our organization as a few of our notable lifetime members are interviewed live to share some of their favorite moments in our organization’s rich history.
URL:https://centennial.apta.org/event/apta-michigan-founders-day-zoom-call-happy-hour-and-interview-with-lifetime-members/
LOCATION:Virtual\, United States
CATEGORIES:Celebration
ORGANIZER;CN="APTA%20Michigan":MAILTO:contact@aptami.org
END:VEVENT
BEGIN:VEVENT
DTSTART;TZID=America/New_York:20210101T000000
DTEND;TZID=America/New_York:20210110T000000
DTSTAMP:20210611T140822
CREATED:20201209T153528Z
LAST-MODIFIED:20201209T153700Z
UID:1440-1609459200-1610236800@centennial.apta.org
SUMMARY:APTA Indiana Centennial Celebration Fitness Challenge
DESCRIPTION:APTA Indiana is sponsoring a fitness challenge for PT’s\, PTA’s\, and students to start 2021 in the right direction! The challenge will consist of numerous exercises and activities that will count as different points for your team. The fitness challenge will have numerous teams including each district\, each DPT program cohort\, and all PTA programs. \nThe challenge will begin on January 1st\, 2021\, and run through January 10th\, 2021. The top team will win a grand prize and the top three individual winners will receive additional prizes. The goal of the fitness challenge is to celebrate the centennial by encouraging movement and exercise across Indiana!
URL:https://centennial.apta.org/event/apta-indiana-centennial-celebration-fitness-challenge/
LOCATION:Virtual\, United States
CATEGORIES:Celebration
END:VEVENT
END:VCALENDAR