BEGIN:VCALENDAR
VERSION:2.0
PRODID:-//APTA Centennial - ECPv5.9.1//NONSGML v1.0//EN
CALSCALE:GREGORIAN
METHOD:PUBLISH
X-WR-CALNAME:APTA Centennial
X-ORIGINAL-URL:https://centennial.apta.org
X-WR-CALDESC:Events for APTA Centennial
BEGIN:VTIMEZONE
TZID:America/New_York
BEGIN:DAYLIGHT
TZOFFSETFROM:-0500
TZOFFSETTO:-0400
TZNAME:EDT
DTSTART:20210314T070000
END:DAYLIGHT
BEGIN:STANDARD
TZOFFSETFROM:-0400
TZOFFSETTO:-0500
TZNAME:EST
DTSTART:20211107T060000
END:STANDARD
END:VTIMEZONE
BEGIN:VEVENT
DTSTART;TZID=America/New_York:20211022T130000
DTEND;TZID=America/New_York:20211022T170000
DTSTAMP:20211002T115334
CREATED:20210112T153412Z
LAST-MODIFIED:20210901T200345Z
UID:1574-1634907600-1634922000@centennial.apta.org
SUMMARY:APTA Centennial Lecture Series | Physical Therapist Management of the Bicyclist
DESCRIPTION:October 22-23\, 2021 • Lecture and Demo\nErik Moen\, PT\nAPTA Centennial Center\n—————————————————————–\nAs the trusted leader of the physical therapy profession\, we are proud to announce the APTA Centennial Lecture Series. This continuing education series features recognized leaders on topics in clinical practice\, practice management\, payment\, and innovation. \nCourses will be held in person and virtually. Learn more and register. \n(Dates of these events are subject to change depending on developments related to the COVID-19 pandemic. Please check back often for updates)
URL:https://centennial.apta.org/event/apta-centennial-lecture-series-physical-therapist-management-of-the-bicyclist/2021-10-22/
LOCATION:APTA Centennial Center\, 3030 Potomac Ave\, Suite 100\, Alexadria\, VA\, 22305
CATEGORIES:Other
ORGANIZER;CN="APTA":MAILTO:centennial@apta.org
END:VEVENT
END:VCALENDAR