BEGIN:VCALENDAR
VERSION:2.0
PRODID:-//APTA Centennial - ECPv5.6.0//NONSGML v1.0//EN
CALSCALE:GREGORIAN
METHOD:PUBLISH
X-WR-CALNAME:APTA Centennial
X-ORIGINAL-URL:https://centennial.apta.org
X-WR-CALDESC:Events for APTA Centennial
BEGIN:VTIMEZONE
TZID:America/New_York
BEGIN:DAYLIGHT
TZOFFSETFROM:-0500
TZOFFSETTO:-0400
TZNAME:EDT
DTSTART:20210314T070000
END:DAYLIGHT
BEGIN:STANDARD
TZOFFSETFROM:-0400
TZOFFSETTO:-0500
TZNAME:EST
DTSTART:20211107T060000
END:STANDARD
END:VTIMEZONE
BEGIN:VEVENT
DTSTART;VALUE=DATE:20210218
DTEND;VALUE=DATE:20210530
DTSTAMP:20210516T091526
CREATED:20210115T122543Z
LAST-MODIFIED:20210115T122543Z
UID:1603-1613606400-1622332799@centennial.apta.org
SUMMARY:100k Centennial Challenge | American Academy of Sports Physical Therapy
DESCRIPTION:Join the American Academy of Sports Physical Therapy for a PT community-wide walk\, run\, and roll challenge in celebration of APTA’s Centennial Year. Kick off the celebratory year with a little physical activity. Whether you roll\, walk\, or run\, join us and track your movement during the first quarter of the year. For your participation you will receive a 100K Challenge T-shirt\, a participation medallion\, and a little motivation to help you get up and move!
URL:https://centennial.apta.org/event/100k-centennial-challenge-american-academy-of-sports-physical-therapy/
LOCATION:Virtual\, United States
CATEGORIES:Celebration
END:VEVENT
BEGIN:VEVENT
DTSTART;TZID=America/New_York:20210512T193000
DTEND;TZID=America/New_York:20210512T203000
DTSTAMP:20210516T091526
CREATED:20201118T161434Z
LAST-MODIFIED:20201118T163549Z
UID:1400-1620847800-1620851400@centennial.apta.org
SUMMARY:APTA Pennsylvania Webinar Series – Pediatric Annual Physical Therapy Checkup: The Time Is Now!
DESCRIPTION:APTA Pennsylvania is proud to announce our 2021 Centennial Speaker Webinar Series that will bring you five engaging educational topics from nationally renowned speakers. \nTitle: Pediatric Annual Physical Therapy Checkup: The Time Is Now!\nSpeakers:\nCindy Miles\, PT\, PhD\nBoard-Certified Pediatric Clinical Specialist \nKellie S. Gossman PT\, DPT\nBoard-Certified Pediatric Clinical Specialist \nKatherine Smith PT\, DPT\nBoard-Certified Pediatric Clinical Specialist \nDate: Wednesday\, May 12\, 2021 at 7:30 p.m. \nObjectives:\n1. Recognize the need for the Annual Pediatric PT Checkup and the Academy’s role to promote the mission of health promotion and advocacy.\n2. Discuss the decision framework that is used when providing PT annual checkups.\n3. Apply the aspects of evidence-based practice to the Annual Pediatric PT checkup process.\n4. Examine considerations for successful implementation of the Annual Pediatric PT Check-up.\n5. Utilize APTA and Academy resources to provide Annual PT Checkups in their clinics. \nLearn more about the speaker and register for the “Pediatric Annual Physical Therapy Checkup: The Time Is Now!” on the APTA Pennsylvania Centennial website: https://www.ppta.org/aptapa-centennialwebinars
URL:https://centennial.apta.org/event/apta-pennsylvania-webinar-series-pediatric-annual-physical-therapy-checkup-the-time-is-now/
LOCATION:Virtual\, United States
CATEGORIES:Other
END:VEVENT
BEGIN:VEVENT
DTSTART;TZID=America/New_York:20210521T130000
DTEND;TZID=America/New_York:20210521T163000
DTSTAMP:20210516T091526
CREATED:20210112T145303Z
LAST-MODIFIED:20210225T201250Z
UID:1536-1621602000-1621614600@centennial.apta.org
SUMMARY:APTA Centennial Lecture Series | Practice Management: Balancing Compliance and Profit
DESCRIPTION:May 21-22\, 2021 • Lecture\nSpeakers\nLynn Steffes\, PT\, DPT\,\nAPTA Director of Regulatory Affairs Kara Gainer\, JD\,\nCMS representative\nVirtual Course – Click here to register. \n—————————————————————————- \nAs the trusted leader of the physical therapy profession\, we are proud to announce the APTA Centennial Lecture Series. This continuing education series features recognized leaders on topics in clinical practice\, practice management\, payment\, and innovation. \nCourses will be held virtually and at our new headquarters\, APTA Centennial Center\, in Alexandria\, Virginia. Pricing\, CEU information\, lodging\, and registration information to come. \n(Dates of these events are subject to change depending on developments related to the COVID-19 pandemic. Please check back often for updates)
URL:https://centennial.apta.org/event/apta-centennial-lecture-series-practice-management-balancing-compliance-and-profit/2021-05-21/
LOCATION:Virtual\, United States
CATEGORIES:Other
ORGANIZER;CN="APTA":MAILTO:centennial@apta.org
END:VEVENT
BEGIN:VEVENT
DTSTART;TZID=America/New_York:20210522T110000
DTEND;TZID=America/New_York:20210523T163000
DTSTAMP:20210516T091526
CREATED:20210112T145303Z
LAST-MODIFIED:20210225T201250Z
UID:1538-1621681200-1621787400@centennial.apta.org
SUMMARY:APTA Centennial Lecture Series | Practice Management: Balancing Compliance and Profit
DESCRIPTION:May 21-22\, 2021 • Lecture\nSpeakers\nLynn Steffes\, PT\, DPT\,\nAPTA Director of Regulatory Affairs Kara Gainer\, JD\,\nCMS representative\nVirtual Course – Click here to register. \n—————————————————————————- \nAs the trusted leader of the physical therapy profession\, we are proud to announce the APTA Centennial Lecture Series. This continuing education series features recognized leaders on topics in clinical practice\, practice management\, payment\, and innovation. \nCourses will be held virtually and at our new headquarters\, APTA Centennial Center\, in Alexandria\, Virginia. Pricing\, CEU information\, lodging\, and registration information to come. \n(Dates of these events are subject to change depending on developments related to the COVID-19 pandemic. Please check back often for updates)
URL:https://centennial.apta.org/event/apta-centennial-lecture-series-practice-management-balancing-compliance-and-profit/2021-05-22/
LOCATION:Virtual\, United States
CATEGORIES:Other
ORGANIZER;CN="APTA":MAILTO:centennial@apta.org
END:VEVENT
END:VCALENDAR